BEGIN:VCALENDAR
VERSION:2.0
PRODID:-//Christ the King - ECPv4.6.11.1//NONSGML v1.0//EN
CALSCALE:GREGORIAN
METHOD:PUBLISH
X-WR-CALNAME:Christ the King
X-ORIGINAL-URL:https://christthekingretreatcenter.org
X-WR-CALDESC:Events for Christ the King
BEGIN:VEVENT
DTSTART;TZID=America/Phoenix:20260717T163000
DTEND;TZID=America/Phoenix:20260719T130000
DTSTAMP:20260422T085239
CREATED:20260128T180623Z
LAST-MODIFIED:20260316T174251Z
UID:11335-1784305800-1784466000@christthekingretreatcenter.org
SUMMARY:Married Couples Retreat
DESCRIPTION:“Two Become One: A Journey of Love and Forgiveness”\n“May the Lord make you increase and abound in love for one another” (1 Thessalonians 3:12)\nJuly 17th – 19th\, 2026\nThis a weekend retreat is for married couples at every stage of their life together. Whether newly married or married for many years\, couples are invited to pause\, reflect\, and reconnect with one another and with God. Through prayer\, shared reflection\, and quiet time together\, this retreat celebrates marriage as a living covenant that continues to grow and mature. God’s grace meets couples in the ordinary moments\, renewing love\, strengthening unity\, and opening hearts to deeper compassion and joy. Together we are called to trust God’s love for one another in our life.\nPresenters: Fr. Joe Moons\, C.P.\, Fr. Phillip Donlan\, C.P.\, and Olivia and Talib Huff\nREGISTRATION Fee: $520 per couple (Check-in begins at 4:30 pm on July 17th\n and concludes with the celebration of Sunday Mass at 11:45 am Snacks will be provided after Mass)\nCLICK HERE To Register Online\nCLICK HERE for Flyer/Registration Form to print and send in.\nClick Here to View Our Cancellation Policy\n
URL:https://christthekingretreatcenter.org/event/married-couples-retreat-6/
LOCATION:6520 Van Maren Ln\, Citrus Heights\, CA\, 95621\, United States
CATEGORIES:Couples Retreat,Married Couples Retreats,Seasonal Retreats
END:VEVENT
END:VCALENDAR