BEGIN:VCALENDAR
VERSION:2.0
PRODID:-//Christ the King - ECPv4.6.11.1//NONSGML v1.0//EN
CALSCALE:GREGORIAN
METHOD:PUBLISH
X-WR-CALNAME:Christ the King
X-ORIGINAL-URL:https://christthekingretreatcenter.org
X-WR-CALDESC:Events for Christ the King
BEGIN:VEVENT
DTSTART;TZID=America/Phoenix:20240629T090000
DTEND;TZID=America/Phoenix:20240629T153000
DTSTAMP:20260422T085132
CREATED:20240430T201940Z
LAST-MODIFIED:20240614T174817Z
UID:9492-1719651600-1719675000@christthekingretreatcenter.org
SUMMARY:Dia de Retiro
DESCRIPTION: \n  \n$50 por persona\n$85 por matrimonio\n$40 por participante en los grupos de 10 o más de una misma parroquia o apostolado \n  \nPresione Aquí Para Inscribirse\n
URL:https://christthekingretreatcenter.org/event/dia-de-retiro/
LOCATION:6520 Van Maren Ln\, Citrus Heights\, CA\, 95621\, United States
CATEGORIES:Day Retreats,Dia de Retiro,Special Events
END:VEVENT
END:VCALENDAR