BEGIN:VCALENDAR
VERSION:2.0
PRODID:-//Christ the King - ECPv4.6.11.1//NONSGML v1.0//EN
CALSCALE:GREGORIAN
METHOD:PUBLISH
X-WR-CALNAME:Christ the King
X-ORIGINAL-URL:https://christthekingretreatcenter.org
X-WR-CALDESC:Events for Christ the King
BEGIN:VEVENT
DTSTART;TZID=America/Phoenix:20240817T080000
DTEND;TZID=America/Phoenix:20240817T153000
DTSTAMP:20260422T085258
CREATED:20240430T202018Z
LAST-MODIFIED:20240719T193910Z
UID:9489-1723881600-1723908600@christthekingretreatcenter.org
SUMMARY:Dia de Reflexion Para Servidores
DESCRIPTION:  \n$50 por persona\n$85 por matrimonio\n$40 por participante en los grupos de 10 o más de una misma parroquia o apostolado \n  \nPresione Aquí Para Inscribirse\n  \n
URL:https://christthekingretreatcenter.org/event/dia-de-reflexion-para-servidores/
LOCATION:6520 Van Maren Ln\, Citrus Heights\, CA\, 95621\, United States
CATEGORIES:Day Retreats,Dia de Retiro,Special Events
ATTACH;FMTTYPE=image/png:https://christthekingretreatcenter.org/wp-content/uploads/2024/04/Agosto-17.png
END:VEVENT
END:VCALENDAR